BEGIN:VCALENDAR
VERSION:2.0
PRODID:-//jEvents 2.0 for Joomla//EN
CALSCALE:GREGORIAN
METHOD:PUBLISH
BEGIN:VTIMEZONE
TZID:Europe/Berlin
BEGIN:STANDARD
DTSTART:20220323T200000
RDATE:20220327T030000
TZOFFSETFROM:+0200
TZOFFSETTO:+0100
TZNAME:Europe/Berlin CET
END:STANDARD
BEGIN:STANDARD
DTSTART:20221030T020000
RDATE:20230326T030000
TZOFFSETFROM:+0200
TZOFFSETTO:+0100
TZNAME:Europe/Berlin CET
END:STANDARD
BEGIN:STANDARD
DTSTART:20231029T020000
RDATE:20240331T030000
TZOFFSETFROM:+0200
TZOFFSETTO:+0100
TZNAME:Europe/Berlin CET
END:STANDARD
BEGIN:STANDARD
DTSTART:20241027T020000
RDATE:20250330T030000
TZOFFSETFROM:+0200
TZOFFSETTO:+0100
TZNAME:Europe/Berlin CET
END:STANDARD
BEGIN:STANDARD
DTSTART:20251026T020000
RDATE:20260329T030000
TZOFFSETFROM:+0200
TZOFFSETTO:+0100
TZNAME:Europe/Berlin CET
END:STANDARD
BEGIN:DAYLIGHT
DTSTART:20220327T030000
RDATE:20221030T020000
TZOFFSETFROM:+0100
TZOFFSETTO:+0200
TZNAME:Europe/Berlin CEST
END:DAYLIGHT
BEGIN:DAYLIGHT
DTSTART:20230326T030000
RDATE:20231029T020000
TZOFFSETFROM:+0100
TZOFFSETTO:+0200
TZNAME:Europe/Berlin CEST
END:DAYLIGHT
BEGIN:DAYLIGHT
DTSTART:20240331T030000
RDATE:20241027T020000
TZOFFSETFROM:+0100
TZOFFSETTO:+0200
TZNAME:Europe/Berlin CEST
END:DAYLIGHT
BEGIN:DAYLIGHT
DTSTART:20250330T030000
RDATE:20251026T020000
TZOFFSETFROM:+0100
TZOFFSETTO:+0200
TZNAME:Europe/Berlin CEST
END:DAYLIGHT
END:VTIMEZONE
BEGIN:VEVENT
UID:561da850c2fc31e9dc7ac61c7b440364
CATEGORIES:Training Freitags
CREATED:20211220T093757
SUMMARY:Übungsabend für Hochzeitsworkshop
DESCRIPTION:
DTSTAMP:20260419T225456
DTSTART;TZID=Europe/Berlin:20230324T200000
DTEND;TZID=Europe/Berlin:20230324T220000
SEQUENCE:0
RRULE:FREQ=WEEKLY;COUNT=100;INTERVAL=2;BYDAY=FR
EXDATE;TZID=Europe/Berlin:20220422T200000,20220617T200000,20220729T200000,20220812T200000,20220826T20
 0000,20220909T200000,20221104T200000,20221230T200000,20230407T200000,202302
 24T200000,20230602T200000,20230421T200000,20230728T200000,20230811T200000,2
 0230825T200000,20230908T200000,20231103T200000,20231229T200000,20240126T200
 000,20240726T200000,20240809T200000,20240823T200000,20240906T200000
TRANSP:OPAQUE
END:VEVENT
BEGIN:VEVENT
UID:561da850c2fc31e9dc7ac61c7b440364
CATEGORIES:Training Freitags
CREATED:20211220T093757
SUMMARY:Übungsabend für Hochzeitsworkshop
DESCRIPTION:
URL;VALUE=URI:https://teschd.tanzclub-heidenheim.de/index.php/interactiv/calendar/eventde
 tail/3422/-/uebungsabend-fuer-hochzeitsworkshop?tmpl=component

DTSTAMP:20260419T225456
DTSTART;TZID=Europe/Berlin:20230324T200000
DTEND;TZID=Europe/Berlin:20230324T220000
RECURRENCE-ID;TZID=Europe/Berlin:20230324T200000
SEQUENCE:0
TRANSP:OPAQUE
END:VEVENT
END:VCALENDAR