BEGIN:VCALENDAR
VERSION:2.0
PRODID:-//jEvents 2.0 for Joomla//EN
CALSCALE:GREGORIAN
METHOD:PUBLISH
BEGIN:VTIMEZONE
TZID:Europe/Berlin
BEGIN:STANDARD
DTSTART:20220110T190000
RDATE:20220327T030000
TZOFFSETFROM:+0200
TZOFFSETTO:+0100
TZNAME:Europe/Berlin CET
END:STANDARD
BEGIN:STANDARD
DTSTART:20221030T020000
RDATE:20230326T030000
TZOFFSETFROM:+0200
TZOFFSETTO:+0100
TZNAME:Europe/Berlin CET
END:STANDARD
BEGIN:STANDARD
DTSTART:20231029T020000
RDATE:20240331T030000
TZOFFSETFROM:+0200
TZOFFSETTO:+0100
TZNAME:Europe/Berlin CET
END:STANDARD
BEGIN:STANDARD
DTSTART:20241027T020000
RDATE:20250330T030000
TZOFFSETFROM:+0200
TZOFFSETTO:+0100
TZNAME:Europe/Berlin CET
END:STANDARD
BEGIN:STANDARD
DTSTART:20251026T020000
RDATE:20260329T030000
TZOFFSETFROM:+0200
TZOFFSETTO:+0100
TZNAME:Europe/Berlin CET
END:STANDARD
BEGIN:DAYLIGHT
DTSTART:20220327T030000
RDATE:20221030T020000
TZOFFSETFROM:+0100
TZOFFSETTO:+0200
TZNAME:Europe/Berlin CEST
END:DAYLIGHT
BEGIN:DAYLIGHT
DTSTART:20230326T030000
RDATE:20231029T020000
TZOFFSETFROM:+0100
TZOFFSETTO:+0200
TZNAME:Europe/Berlin CEST
END:DAYLIGHT
BEGIN:DAYLIGHT
DTSTART:20240331T030000
RDATE:20241027T020000
TZOFFSETFROM:+0100
TZOFFSETTO:+0200
TZNAME:Europe/Berlin CEST
END:DAYLIGHT
BEGIN:DAYLIGHT
DTSTART:20250330T030000
RDATE:20251026T020000
TZOFFSETFROM:+0100
TZOFFSETTO:+0200
TZNAME:Europe/Berlin CEST
END:DAYLIGHT
END:VTIMEZONE
BEGIN:VEVENT
UID:82701b4d55b340ab7ff6beb06dee8beb
CATEGORIES:Training
CREATED:19700101T010000
SUMMARY:Training Birgit und Jürgen
DESCRIPTION:
DTSTAMP:20260420T001036
DTSTART;TZID=Europe/Berlin:20230111T190000
DTEND;TZID=Europe/Berlin:20230111T220000
SEQUENCE:0
RRULE:FREQ=WEEKLY;UNTIL=20260101T000000Z;INTERVAL=1;BYDAY=WE
EXDATE;TZID=Europe/Berlin:20231227T190000,20240605T190000,20240529T190000,20240731T190000,20240807T19
 0000,20240814T190000,20240821T190000,20240828T190000,20240904T190000
TRANSP:OPAQUE
END:VEVENT
BEGIN:VEVENT
UID:82701b4d55b340ab7ff6beb06dee8beb
CATEGORIES:Training
CREATED:20221202T162122
SUMMARY:Summerbreeze
DESCRIPTION:Wir treffen uns zum Start in die Ferien im Viehhof Sachsenhausen\n
X-ALT-DESC;FMTTYPE=text/html:<p>Wir treffen uns zum Start in die Ferien im Viehhof Sachsenhausen</p>
URL;VALUE=URI:https://teschd.tanzclub-heidenheim.de/index.php/interactiv/calendar/eventde
 tail/3963/-/summerbreeze?tmpl=component

DTSTAMP:20260420T001036
DTSTART;TZID=Europe/Berlin:20240724T190000
DTEND;TZID=Europe/Berlin:20240724T220000
RECURRENCE-ID;TZID=Europe/Berlin:20240724T190000
SEQUENCE:0
TRANSP:OPAQUE
END:VEVENT
END:VCALENDAR