BEGIN:VCALENDAR
VERSION:2.0
PRODID:-//jEvents 2.0 for Joomla//EN
CALSCALE:GREGORIAN
METHOD:PUBLISH
BEGIN:VTIMEZONE
TZID:Europe/Berlin
BEGIN:STANDARD
DTSTART:20191104T190000
RDATE:20200329T030000
TZOFFSETFROM:+0200
TZOFFSETTO:+0100
TZNAME:Europe/Berlin CET
END:STANDARD
BEGIN:STANDARD
DTSTART:20201025T020000
RDATE:20210328T030000
TZOFFSETFROM:+0200
TZOFFSETTO:+0100
TZNAME:Europe/Berlin CET
END:STANDARD
BEGIN:STANDARD
DTSTART:20211031T020000
RDATE:20220327T030000
TZOFFSETFROM:+0200
TZOFFSETTO:+0100
TZNAME:Europe/Berlin CET
END:STANDARD
BEGIN:STANDARD
DTSTART:20221030T020000
RDATE:20230326T030000
TZOFFSETFROM:+0200
TZOFFSETTO:+0100
TZNAME:Europe/Berlin CET
END:STANDARD
BEGIN:STANDARD
DTSTART:20231029T020000
RDATE:20240331T030000
TZOFFSETFROM:+0200
TZOFFSETTO:+0100
TZNAME:Europe/Berlin CET
END:STANDARD
BEGIN:STANDARD
DTSTART:20241027T020000
RDATE:20250330T030000
TZOFFSETFROM:+0200
TZOFFSETTO:+0100
TZNAME:Europe/Berlin CET
END:STANDARD
BEGIN:STANDARD
DTSTART:20251026T020000
RDATE:20260329T030000
TZOFFSETFROM:+0200
TZOFFSETTO:+0100
TZNAME:Europe/Berlin CET
END:STANDARD
BEGIN:DAYLIGHT
DTSTART:20200329T030000
RDATE:20201025T020000
TZOFFSETFROM:+0100
TZOFFSETTO:+0200
TZNAME:Europe/Berlin CEST
END:DAYLIGHT
BEGIN:DAYLIGHT
DTSTART:20210328T030000
RDATE:20211031T020000
TZOFFSETFROM:+0100
TZOFFSETTO:+0200
TZNAME:Europe/Berlin CEST
END:DAYLIGHT
BEGIN:DAYLIGHT
DTSTART:20220327T030000
RDATE:20221030T020000
TZOFFSETFROM:+0100
TZOFFSETTO:+0200
TZNAME:Europe/Berlin CEST
END:DAYLIGHT
BEGIN:DAYLIGHT
DTSTART:20230326T030000
RDATE:20231029T020000
TZOFFSETFROM:+0100
TZOFFSETTO:+0200
TZNAME:Europe/Berlin CEST
END:DAYLIGHT
BEGIN:DAYLIGHT
DTSTART:20240331T030000
RDATE:20241027T020000
TZOFFSETFROM:+0100
TZOFFSETTO:+0200
TZNAME:Europe/Berlin CEST
END:DAYLIGHT
BEGIN:DAYLIGHT
DTSTART:20250330T030000
RDATE:20251026T020000
TZOFFSETFROM:+0100
TZOFFSETTO:+0200
TZNAME:Europe/Berlin CEST
END:DAYLIGHT
END:VTIMEZONE
BEGIN:VEVENT
UID:d47d32423587af4ed28aff3724e94f56
CATEGORIES:Training
CREATED:19700101T010000
SUMMARY:Training Birgit+Jürgen
DESCRIPTION:
DTSTAMP:20260420T071712
DTSTART;TZID=Europe/Berlin:20201104T190000
DTEND;TZID=Europe/Berlin:20201104T220000
SEQUENCE:0
RRULE:FREQ=WEEKLY;UNTIL=20230101T000000Z;INTERVAL=1;BYDAY=WE
EXDATE;TZID=Europe/Berlin:20210106T190000,20210217T190000,20210602T190000,20210804T190000,20210811T19
 0000,20210818T190000,20210825T190000,20210901T190000,20210908T190000,202012
 23T190000,20201230T190000,20210407T190000,20210526T190000,20211103T190000,2
 0211222T190000,20211229T190000,20220105T190000,20220302T190000,20220420T190
 000,20220608T190000,20220615T190000,20220803T190000,20220810T190000,2022081
 7T190000,20220824T190000,20220831T190000,20220907T190000,20221102T190000,20
 221228T190000,20221221T190000
TRANSP:OPAQUE
END:VEVENT
BEGIN:VEVENT
UID:d47d32423587af4ed28aff3724e94f56
CATEGORIES:Training
CREATED:20190927T145716
SUMMARY:Summerbreeze
DESCRIPTION:
URL;VALUE=URI:https://teschd.tanzclub-heidenheim.de/index.php/interactiv/calendar/eventde
 tail/3076/-/summerbreeze?tmpl=component

DTSTAMP:20260420T071712
DTSTART;TZID=Europe/Berlin:20220727T190000
DTEND;TZID=Europe/Berlin:20220727T235959
RECURRENCE-ID;TZID=Europe/Berlin:20220727T190000
SEQUENCE:0
TRANSP:OPAQUE
END:VEVENT
END:VCALENDAR